BEGIN:VCALENDAR
VERSION:2.0
PRODID:-//Team Aisling - ECPv6.15.3//NONSGML v1.0//EN
CALSCALE:GREGORIAN
METHOD:PUBLISH
X-WR-CALNAME:Team Aisling
X-ORIGINAL-URL:https://teamaisling.org
X-WR-CALDESC:Events for Team Aisling
REFRESH-INTERVAL;VALUE=DURATION:PT1H
X-Robots-Tag:noindex
X-PUBLISHED-TTL:PT1H
BEGIN:VTIMEZONE
TZID:America/New_York
BEGIN:DAYLIGHT
TZOFFSETFROM:-0500
TZOFFSETTO:-0400
TZNAME:EDT
DTSTART:20200308T070000
END:DAYLIGHT
BEGIN:STANDARD
TZOFFSETFROM:-0400
TZOFFSETTO:-0500
TZNAME:EST
DTSTART:20201101T060000
END:STANDARD
BEGIN:DAYLIGHT
TZOFFSETFROM:-0500
TZOFFSETTO:-0400
TZNAME:EDT
DTSTART:20210314T070000
END:DAYLIGHT
BEGIN:STANDARD
TZOFFSETFROM:-0400
TZOFFSETTO:-0500
TZNAME:EST
DTSTART:20211107T060000
END:STANDARD
END:VTIMEZONE
BEGIN:VEVENT
DTSTART;TZID=America/New_York:20210515T070000
DTEND;TZID=America/New_York:20210515T080000
DTSTAMP:20260424T145412
CREATED:20210418T194637Z
LAST-MODIFIED:20210418T194637Z
UID:898-1621062000-1621065600@teamaisling.org
SUMMARY:Couch-To-5K
DESCRIPTION:Join Team Aisling for our Couch to 5K Series.  \nSummer is on the way and it’s time to get off the couch! \nEveryone can walk/run at their own pace\, but you will have a team behind you! \nCheck website on location updates.
URL:https://teamaisling.org/event/couch-to-5k-4/
LOCATION:Tibbetts Main Parking Lot
ORGANIZER;CN="Breda Carroll":MAILTO:info@teamaisling.org
END:VEVENT
BEGIN:VEVENT
DTSTART;TZID=America/New_York:20210509T080000
DTEND;TZID=America/New_York:20210509T100000
DTSTAMP:20260424T145412
CREATED:20210418T203320Z
LAST-MODIFIED:20210418T203320Z
UID:909-1620547200-1620554400@teamaisling.org
SUMMARY:Weekly Runs
DESCRIPTION:A few of Team Aisling Members get together for a weekly run.  \nWhile we all meet and kick-off together\, runners are free to run at their own pace\, no pressure to keep up! \nDistance may vary based on training goals. You can commit to your own distance.  \nIt’s all about getting out with friends for the team spirit and motivation to progress in your own journey! \nCheck website for location as it may change on occasion.  \nSee you out there!!
URL:https://teamaisling.org/event/weekly-runs/
LOCATION:Tibbetts Main Parking Lot
ORGANIZER;CN="Team Captains":MAILTO:info@teamaisling.org
END:VEVENT
BEGIN:VEVENT
DTSTART;TZID=America/New_York:20210508T070000
DTEND;TZID=America/New_York:20210508T090000
DTSTAMP:20260424T145412
CREATED:20210418T193035Z
LAST-MODIFIED:20210418T193035Z
UID:889-1620457200-1620464400@teamaisling.org
SUMMARY:Team Aisling Walking Group
DESCRIPTION:Join the Team Aisling Walking Group! \nEveryone can walk at their own pace\, but you will be surrounded by friends and a team spirit!
URL:https://teamaisling.org/event/team-aisling-walking-group-2/
LOCATION:Crestwood Train Station\, Thompson St.\, Tuckahoe\, NY\, United States
ORGANIZER;CN="Jenny Phibbs":MAILTO:info@teamaisling.org
END:VEVENT
BEGIN:VEVENT
DTSTART;TZID=America/New_York:20210508T070000
DTEND;TZID=America/New_York:20210508T080000
DTSTAMP:20260424T145412
CREATED:20210418T194252Z
LAST-MODIFIED:20210418T194252Z
UID:896-1620457200-1620460800@teamaisling.org
SUMMARY:Couch-To-5K
DESCRIPTION:Join Team Aisling for our Couch to 5K Series.  \nSummer is on the way and it’s time to get off the couch! \nEveryone can walk/run at their own pace\, but you will have a team behind you! \nCheck website on location updates.
URL:https://teamaisling.org/event/couch-to-5k-3/
LOCATION:Tibbetts Main Parking Lot
ORGANIZER;CN="Breda Carroll":MAILTO:info@teamaisling.org
END:VEVENT
BEGIN:VEVENT
DTSTART;TZID=America/New_York:20210502T080000
DTEND;TZID=America/New_York:20210502T100000
DTSTAMP:20260424T145412
CREATED:20210418T202926Z
LAST-MODIFIED:20210418T203029Z
UID:906-1619942400-1619949600@teamaisling.org
SUMMARY:Weekly Runs
DESCRIPTION:A few of Team Aisling Members get together for a weekly run.  \nWhile we all meet and kick-off together\, runners are free to run at their own pace\, no pressure to keep up! \nDistance may vary based on training goals. You can commit to your own distance.  \nIt’s all about getting out with friends for the team spirit and motivation to progress in your own journey! \nCheck website for location as it may change on occasion.  \nSee you out there!!
URL:https://teamaisling.org/event/team-aisling-weekly-runs/
LOCATION:Tibbetts Main Parking Lot
ORGANIZER;CN="Team Captains":MAILTO:info@teamaisling.org
END:VEVENT
BEGIN:VEVENT
DTSTART;TZID=America/New_York:20210501T070000
DTEND;TZID=America/New_York:20210501T080000
DTSTAMP:20260424T145412
CREATED:20210418T193934Z
LAST-MODIFIED:20210418T193934Z
UID:894-1619852400-1619856000@teamaisling.org
SUMMARY:Couch-To-5K
DESCRIPTION:Join Team Aisling for our Couch to 5K Series.  \nSummer is on the way and it’s time to get off the couch! \nEveryone can walk/run at their own pace\, but you will have a team behind you! \nCheck website on location updates.
URL:https://teamaisling.org/event/couch-to-5k-2/
LOCATION:Tibbetts Main Parking Lot
ORGANIZER;CN="Breda Carroll":MAILTO:info@teamaisling.org
END:VEVENT
BEGIN:VEVENT
DTSTART;TZID=America/New_York:20210425T073000
DTEND;TZID=America/New_York:20210425T120000
DTSTAMP:20260424T145412
CREATED:20210410T023537Z
LAST-MODIFIED:20210424T231522Z
UID:827-1619335800-1619352000@teamaisling.org
SUMMARY:Team Aisling Hike
DESCRIPTION:CANCELLED DUE TO INCLEMENT WEATHER. TO BE RESCHEDULED \nGet out of the city and hit the mountains! \nJoin Team Aisling on a hike.  \nIt is important and highly recommended you have appropriate hiking shoes/boots.\nConditions will vary based on prior days weather.  \nWhile location is to be determine we will be meeting at the location at 7.30am.
URL:https://teamaisling.org/event/team-aisling-hike/
ORGANIZER;CN="Breda Carroll":MAILTO:info@teamaisling.org
END:VEVENT
BEGIN:VEVENT
DTSTART;TZID=America/New_York:20210424T070000
DTEND;TZID=America/New_York:20210424T080000
DTSTAMP:20260424T145412
CREATED:20210410T021406Z
LAST-MODIFIED:20210411T005626Z
UID:822-1619247600-1619251200@teamaisling.org
SUMMARY:Team Aisling Walking Group
DESCRIPTION:Join the Team Aisling Walking Group! \nEveryone can walk at their own pace\, but you will be surrounded by friends and a team spirit!
URL:https://teamaisling.org/event/team-aisling-walking-group/
LOCATION:Crestwood Train Station\, Thompson St.\, Tuckahoe\, NY\, United States
ORGANIZER;CN="Jenny Phibbs":MAILTO:info@teamaisling.org
END:VEVENT
BEGIN:VEVENT
DTSTART;TZID=America/New_York:20210424T070000
DTEND;TZID=America/New_York:20210424T080000
DTSTAMP:20260424T145412
CREATED:20210410T012639Z
LAST-MODIFIED:20210410T012639Z
UID:810-1619247600-1619251200@teamaisling.org
SUMMARY:Couch-To-5K
DESCRIPTION:Join Team Aisling for our Couch to 5K Series.  \nSummer is on the way and it’s time to get off the couch! \nEveryone can walk/run at their own pace\, but you will have a team behind you! \nCheck website on location updates.
URL:https://teamaisling.org/event/couch-to-5k/
LOCATION:Tibbetts Main Parking Lot
ORGANIZER;CN="Breda Carroll":MAILTO:info@teamaisling.org
END:VEVENT
BEGIN:VEVENT
DTSTART;TZID=America/New_York:20210421T181500
DTEND;TZID=America/New_York:20210421T191500
DTSTAMP:20260424T145412
CREATED:20210425T000356Z
LAST-MODIFIED:20210609T001505Z
UID:941-1619028900-1619032500@teamaisling.org
SUMMARY:ROCKLAND WEEKLY WALK/RUN GROUP
DESCRIPTION:Join our Rockland Team Aisling Captains weekly run/walk event. \nMeet at the Gazebo in Central Ave Park\, Pearl River\, NY \nWhile you will all meet together\, everyone is free to walk/run at their own pace.\nSet your own goals and enjoy the team spirit and encouragement.
URL:https://teamaisling.org/event/rockland-weekly-walk-run-group/
LOCATION:Pearl River Central Ave Field\, Pearl River\, NY\, United States
ORGANIZER;CN="Mary McAleer":MAILTO:rockland@teamaisling.org
END:VEVENT
BEGIN:VEVENT
DTSTART;TZID=America/New_York:20210420T090000
DTEND;TZID=America/New_York:20210420T100000
DTSTAMP:20260424T145412
CREATED:20210410T004529Z
LAST-MODIFIED:20210426T203832Z
UID:804-1618909200-1618912800@teamaisling.org
SUMMARY:Track Training
DESCRIPTION:Join Team Aisling Track Training! \nLocation may vary from Lincoln High School Track to Van Cortlandt Park Hills.\nCheck website for location.
URL:https://teamaisling.org/event/track-training/
LOCATION:Lincoln High School Track\, 375 Kneeland Ave\, Yonkers\, 10704\, United States
ORGANIZER;CN="Team Aisling":MAILTO:info@teamaisling.org
END:VEVENT
BEGIN:VEVENT
DTSTART;TZID=America/New_York:20210418T080000
DTEND;TZID=America/New_York:20210418T100000
DTSTAMP:20260424T145412
CREATED:20210410T031850Z
LAST-MODIFIED:20210410T031850Z
UID:833-1618732800-1618740000@teamaisling.org
SUMMARY:Sunday Morning Runs
DESCRIPTION:A few of Team Aisling Members get together for a weekly run.  \nWhile we all meet and kick-off together\, runners are free to run at their own pace\, no pressure to keep up! \nDistance may vary based on training goals. You can commit to your own distance.  \nIt’s all about getting out with friends for the team spirit and motivation to progress in your own journey! \nCheck website for location as it may change on occasion.  \nSee you out there!!
URL:https://teamaisling.org/event/sunday-morning-runs/
LOCATION:Tibbetts Main Parking Lot
ORGANIZER;CN="Team Captains":MAILTO:info@teamaisling.org
END:VEVENT
BEGIN:VEVENT
DTSTART;TZID=America/New_York:20210411T080000
DTEND;TZID=America/New_York:20210411T100000
DTSTAMP:20260424T145412
CREATED:20210410T024431Z
LAST-MODIFIED:20210410T024431Z
UID:815-1618128000-1618135200@teamaisling.org
SUMMARY:Park Run - Queens
DESCRIPTION:Team Aisling Queens Captains are hosting a Park Run for all members.  \nRain or Shine it will be fun to see all the club communities join together for a run!!
URL:https://teamaisling.org/event/park-run-queens/
LOCATION:Juniper Valley Park\, 80th St & Juniper Valley Park South\, Middle Village\, NY\, 11379\, United States
ORGANIZER;CN="Siobhan McEntee":MAILTO:queens@teamaisling.org
END:VEVENT
BEGIN:VEVENT
DTSTART;TZID=America/New_York:20210327T110000
DTEND;TZID=America/New_York:20210327T110000
DTSTAMP:20260424T145412
CREATED:20210310T234851Z
LAST-MODIFIED:20210311T020339Z
UID:612-1616842800-1616842800@teamaisling.org
SUMMARY:Noel O'Connell Memorial 5K
DESCRIPTION:Come out and run the first ever Noel O’Connell Memorial 5K – through the streets of Orangeburg! Share in Noel’s love of running and all things GAA. \nAll proceeds to benefit the Rockland Gaelic Athletic Association scholarship program. Scholarships are given to all graduating seniors. \nClick Here to Register
URL:https://teamaisling.org/event/noel-oconnell-memorial-5k/
LOCATION:Rockland GAA\, 160 Old Orangeburg Rd\, Orangeburg\, NY\, 10962
END:VEVENT
BEGIN:VEVENT
DTSTART;TZID=America/New_York:20210314T080000
DTEND;TZID=America/New_York:20210314T080000
DTSTAMP:20260424T145412
CREATED:20210221T210552Z
LAST-MODIFIED:20210221T210718Z
UID:515-1615708800-1615708800@teamaisling.org
SUMMARY:SPAR Craic Virtual 5K/10K
DESCRIPTION:
URL:https://teamaisling.org/event/515/
LOCATION:Tibbetts Main Parking Lot
END:VEVENT
BEGIN:VEVENT
DTSTART;TZID=America/New_York:20210207T090000
DTEND;TZID=America/New_York:20210207T090000
DTSTAMP:20260424T145412
CREATED:20210221T194409Z
LAST-MODIFIED:20210221T194409Z
UID:497-1612688400-1612688400@teamaisling.org
SUMMARY:1st Annual Team Aisling Super Bowl Run/Walk
DESCRIPTION:
URL:https://teamaisling.org/event/1st-annual-team-aisling-super-bowl-run-walk/
LOCATION:Tibbetts Main Parking Lot
END:VEVENT
BEGIN:VEVENT
DTSTART;TZID=America/New_York:20210101T090000
DTEND;TZID=America/New_York:20210101T090000
DTSTAMP:20260424T145412
CREATED:20210221T205912Z
LAST-MODIFIED:20210221T205912Z
UID:506-1609491600-1609491600@teamaisling.org
SUMMARY:New Year's Day 5K Run/Walk
DESCRIPTION:
URL:https://teamaisling.org/event/new-years-day-5k-run-walk/
LOCATION:Tibbetts Main Parking Lot
END:VEVENT
BEGIN:VEVENT
DTSTART;TZID=America/New_York:20201213T080000
DTEND;TZID=America/New_York:20201213T080000
DTSTAMP:20260424T145412
CREATED:20210221T210158Z
LAST-MODIFIED:20210221T210158Z
UID:512-1607846400-1607846400@teamaisling.org
SUMMARY:1st Annual Jingle Bell Jog 5K/10K Run/Walk
DESCRIPTION:
URL:https://teamaisling.org/event/1st-annual-jingle-bell-jog-5k-10k-run-walk/
LOCATION:Tibbetts Main Parking Lot
END:VEVENT
BEGIN:VEVENT
DTSTART;TZID=America/New_York:20201126T073000
DTEND;TZID=America/New_York:20201126T073000
DTSTAMP:20260424T145412
CREATED:20210221T210017Z
LAST-MODIFIED:20210221T210017Z
UID:509-1606375800-1606375800@teamaisling.org
SUMMARY:Turkey Trot 5K Run/Walk
DESCRIPTION:
URL:https://teamaisling.org/event/turkey-trot-5k-run-walk/
LOCATION:Tibbetts Main Parking Lot
END:VEVENT
END:VCALENDAR